BEGIN:VCALENDAR
VERSION:2.0
PRODID:-//ChamberMaster//Event Calendar 2.0//EN
METHOD:PUBLISH
X-PUBLISHED-TTL:P3D
REFRESH-INTERVAL:P3D
CALSCALE:GREGORIAN
BEGIN:VEVENT
DTSTART:20070621T223000Z
DTEND:20070622T010000Z
X-MICROSOFT-CDO-ALLDAYEVENT:FALSE
SUMMARY:ABWA ''Hawaii Comes to Tomball'' Business Expo
DESCRIPTION:Business to business networking expo.
X-ALT-DESC;FMTTYPE=text/html:Business to business networking expo.
LOCATION:Elmer Beckendorf Conference Center at Tomball College\, Tomball\, TX
UID:e.155.2214
SEQUENCE:3
DTSTAMP:20260422T074731Z
URL:https://business.tomballchamber.org/events/details/abwa-hawaii-comes-to-tomball-business-expo-06-21-2007-2214
END:VEVENT

END:VCALENDAR
