BEGIN:VCALENDAR
VERSION:2.0
PRODID:-//ChamberMaster//Event Calendar 2.0//EN
METHOD:PUBLISH
X-PUBLISHED-TTL:P3D
REFRESH-INTERVAL:P3D
CALSCALE:GREGORIAN
BEGIN:VEVENT
DTSTART;VALUE=DATE:20071019
DTEND;VALUE=DATE:20071020
TRANSP:TRANSPARENT
X-MICROSOFT-CDO-ALLDAYEVENT:TRUE
SUMMARY:Abandoned Animal Rescue Wine Tasting Fundraiser
DESCRIPTION:Sample a variety of wines\, enjoy appetizers\, and support AAR's no-kill animal shelter and spay/neuter clinic
X-ALT-DESC;FMTTYPE=text/html:Sample a variety of wines\, enjoy appetizers\, and support AAR's no-kill animal shelter and spay/neuter clinic
LOCATION:The Arbor Gate
UID:e.155.2283
SEQUENCE:3
DTSTAMP:20260422T011502Z
URL:https://business.tomballchamber.org/events/details/abandoned-animal-rescue-wine-tasting-fundraiser-10-19-2007-2283
END:VEVENT

END:VCALENDAR
