BEGIN:VCALENDAR
VERSION:2.0
PRODID:-//ChamberMaster//Event Calendar 2.0//EN
METHOD:PUBLISH
X-PUBLISHED-TTL:P3D
REFRESH-INTERVAL:P3D
CALSCALE:GREGORIAN
BEGIN:VEVENT
DTSTART;VALUE=DATE:20220901
DTEND;VALUE=DATE:20220922
TRANSP:TRANSPARENT
X-MICROSOFT-CDO-ALLDAYEVENT:TRUE
SUMMARY:Abandoned Animal Rescue Supply Drive
DESCRIPTION:So far this year\, 608 animals have found their way through the doors of AAR and we are grateful to be able to help! AAR is holding a supply drive from September 1st-21st in hopes of getting food and supply donations to help care for the animals. As we all know\, right now costs for these items are at an all time high. We appreciate your support!
X-ALT-DESC;FMTTYPE=text/html:So far this year\, 608 animals have found their way through the doors of AAR and we are grateful to be able to help! AAR is holding a supply drive from September 1st-21st in hopes of getting food and supply donations to help care for the animals. As we all know\, right now costs for these items are at an all time high. We appreciate your support!
LOCATION:32632 Wright Rd. Magnolia\, TX 77355
UID:e.155.36596
SEQUENCE:3
DTSTAMP:20260420T234635Z
URL:https://business.tomballchamber.org/events/details/abandoned-animal-rescue-supply-drive-36596
END:VEVENT

END:VCALENDAR
