BEGIN:VCALENDAR
VERSION:2.0
PRODID:-//ChamberMaster//Event Calendar 2.0//EN
METHOD:PUBLISH
X-PUBLISHED-TTL:P3D
REFRESH-INTERVAL:P3D
CALSCALE:GREGORIAN
BEGIN:VEVENT
DTSTART:20080915T120000Z
DTEND:20080915T170000Z
X-MICROSOFT-CDO-ALLDAYEVENT:FALSE
SUMMARY:Abandoned Animal Rescue Golf Tournament
DESCRIPTION:Your birdie can help our puppies and kitties?Abandoned Animal Rescue?s 4th Annual Golf Tournament Fundraiser will tee off on Monday\, Sept 15. All profits benefit AAR?s no-kill animal shelter\, pet adoption center\, and low-cost spay/neuter clinic managed and maintained by an all-volunteer staff.
X-ALT-DESC;FMTTYPE=text/html:Your birdie can help our puppies and kitties?Abandoned Animal Rescue?s 4th Annual Golf Tournament Fundraiser will tee off on Monday\, Sept 15. All profits benefit AAR?s no-kill animal shelter\, pet adoption center\, and low-cost spay/neuter clinic managed and maintained by an all-volunteer staff. 
LOCATION:High Meadow Ranch Golf Club
UID:e.155.2557
SEQUENCE:3
DTSTAMP:20260421T084415Z
URL:https://business.tomballchamber.org/events/details/abandoned-animal-rescue-golf-tournament-09-15-2008-2557
END:VEVENT

END:VCALENDAR
