BEGIN:VCALENDAR
VERSION:2.0
PRODID:-//ChamberMaster//Event Calendar 2.0//EN
METHOD:PUBLISH
X-PUBLISHED-TTL:P3D
REFRESH-INTERVAL:P3D
CALSCALE:GREGORIAN
BEGIN:VEVENT
DTSTART;VALUE=DATE:20070924
DTEND;VALUE=DATE:20070925
TRANSP:TRANSPARENT
X-MICROSOFT-CDO-ALLDAYEVENT:TRUE
SUMMARY:Abandoned Animal Rescue 2007 Sue Brewer Memorial Golf Tournament
DESCRIPTION:Third Annual Golf Tournament Fundraiser
X-ALT-DESC;FMTTYPE=text/html:Third Annual Golf Tournament Fundraiser\n
LOCATION:High Meadow Ranch
UID:e.155.2225
SEQUENCE:3
DTSTAMP:20260422T030432Z
URL:https://business.tomballchamber.org/events/details/abandoned-animal-rescue-2007-sue-brewer-memorial-golf-tournament-09-24-2007-2225
END:VEVENT

END:VCALENDAR
