BEGIN:VCALENDAR
VERSION:2.0
PRODID:-//ChamberMaster//Event Calendar 2.0//EN
METHOD:PUBLISH
X-PUBLISHED-TTL:P3D
REFRESH-INTERVAL:P3D
CALSCALE:GREGORIAN
BEGIN:VEVENT
DTSTART:20070308T193000Z
DTEND:20070308T203000Z
X-MICROSOFT-CDO-ALLDAYEVENT:FALSE
SUMMARY:AARp Tomball Meeting
DESCRIPTION:AARP Tomball Chapter Meeting\nMarty Morrision and David Protctor from the \nHarris County tax Assessor's Office will speak
X-ALT-DESC;FMTTYPE=text/html:AARP Tomball Chapter Meeting<br />Marty Morrision and David Protctor from the&nbsp\;<br />Harris County tax Assessor&rsquo\;s Office will speak
LOCATION:Tomball College & Community Library Meeting Room
UID:e.155.1388
SEQUENCE:3
DTSTAMP:20260422T134337Z
URL:https://business.tomballchamber.org/events/details/aarp-tomball-meeting-03-08-2007-1388
END:VEVENT

END:VCALENDAR
