BEGIN:VCALENDAR
VERSION:2.0
PRODID:-//ChamberMaster//Event Calendar 2.0//EN
METHOD:PUBLISH
X-PUBLISHED-TTL:P3D
REFRESH-INTERVAL:P3D
CALSCALE:GREGORIAN
BEGIN:VEVENT
DTSTART:20080612T183000Z
DTEND:20080612T200000Z
X-MICROSOFT-CDO-ALLDAYEVENT:FALSE
SUMMARY:AARP Tomball Chapter monthly meeting
DESCRIPTION:"Doss Pickers & Singers" will perform. Anyone age 50 or over is invited to join the Tomball Chapter and participate in social and service activities.  Meetings are held the second Thursday of every month at 1:30pm in the Lone Star College-Tomball and Community Library.\nCome as our guest and learn about our summer trips to the Moody Gardens and Miller Outdoor Theater.
X-ALT-DESC;FMTTYPE=text/html: "Doss Pickers & Singers" will perform. Anyone age 50 or over is invited to join the Tomball Chapter and participate in social and service activities.  Meetings are held the second Thursday of every month at 1:30pm in the Lone Star College-Tomball and Community Library.\nCome as our guest and learn about our summer trips to the Moody Gardens and Miller Outdoor Theater. \n
LOCATION:Lone Star College-Tomball Community Library
UID:e.155.2518
SEQUENCE:3
DTSTAMP:20260421T110957Z
URL:https://business.tomballchamber.org/events/details/aarp-tomball-chapter-monthly-meeting-06-12-2008-2518
END:VEVENT

END:VCALENDAR
