BEGIN:VCALENDAR
VERSION:2.0
PRODID:-//ChamberMaster//Event Calendar 2.0//EN
METHOD:PUBLISH
X-PUBLISHED-TTL:P3D
REFRESH-INTERVAL:P3D
CALSCALE:GREGORIAN
BEGIN:VEVENT
DTSTART:20080410T183000Z
DTEND:20080410T193000Z
X-MICROSOFT-CDO-ALLDAYEVENT:FALSE
SUMMARY:AARP\, Tomball Chapter \,Monthly Meeting
DESCRIPTION:Come as our guest to be entertained by the Barbara Jennings? ?One Woman Broadway? performance.   Anyone age 50 or over is invited to join the Tomball Chapter and participate in social and service activities.  Learn about our upcoming trips to Blue Bell Creamery\, Moody Gardens and Miller Outdoor Theater. Meetings are held the second Thursday of every month at 1:30pm in the Lone Star College-Tomball and Community Library.
X-ALT-DESC;FMTTYPE=text/html: Come as our guest to be entertained by the Barbara Jennings? ?One Woman Broadway? performance.   Anyone age 50 or over is invited to join the Tomball Chapter and participate in social and service activities.  Learn about our upcoming trips to Blue Bell Creamery\, Moody Gardens and Miller Outdoor Theater. Meetings are held the second Thursday of every month at 1:30pm in the Lone Star College-Tomball and Community Library.
LOCATION:Lone Star College-Tomball and Community Library 30555 Tomball Parkway
UID:e.155.2462
SEQUENCE:3
DTSTAMP:20260421T145858Z
URL:https://business.tomballchamber.org/events/details/aarp-tomball-chapter-monthly-meeting-04-10-2008-2462
END:VEVENT

END:VCALENDAR
