BEGIN:VCALENDAR
VERSION:2.0
PRODID:-//ChamberMaster//Event Calendar 2.0//EN
METHOD:PUBLISH
X-PUBLISHED-TTL:P3D
REFRESH-INTERVAL:P3D
CALSCALE:GREGORIAN
BEGIN:VEVENT
DTSTART:20071014T003000Z
DTEND:20071014T003000Z
X-MICROSOFT-CDO-ALLDAYEVENT:FALSE
SUMMARY:A Choral Tapestry
DESCRIPTION:A sampling of recently published choral music by American composers
X-ALT-DESC;FMTTYPE=text/html:A sampling of recently published choral music by American composers
LOCATION:Tomball United Methodist Church 1603 Baker Drive\, Tomball\, TX
UID:e.155.2307
SEQUENCE:3
DTSTAMP:20260422T024824Z
URL:https://business.tomballchamber.org/events/details/a-choral-tapestry-10-13-2007-2307
END:VEVENT

END:VCALENDAR
