BEGIN:VCALENDAR
VERSION:2.0
PRODID:-//ChamberMaster//Event Calendar 2.0//EN
METHOD:PUBLISH
X-PUBLISHED-TTL:P3D
REFRESH-INTERVAL:P3D
CALSCALE:GREGORIAN
BEGIN:VEVENT
DTSTART:20070913T183000Z
DTEND:20070913T200000Z
X-MICROSOFT-CDO-ALLDAYEVENT:FALSE
SUMMARY:A.A.R.P. Tomball Chapter Meeting
DESCRIPTION:Dr. Devin Pettiet will speak on  the topic "Keeping Your Back Healthy"
X-ALT-DESC;FMTTYPE=text/html:Dr. Devin Pettiet will speak on  the topic "Keeping Your Back Healthy"
LOCATION:Tomball College and Community Library Meeting Room\, 1st Floor
UID:e.155.2325
SEQUENCE:3
DTSTAMP:20260422T044020Z
URL:https://business.tomballchamber.org/events/details/a-a-r-p-tomball-chapter-meeting-09-13-2007-2325
END:VEVENT

END:VCALENDAR
