BEGIN:VCALENDAR
VERSION:2.0
PRODID:-//ChamberMaster//Event Calendar 2.0//EN
METHOD:PUBLISH
X-PUBLISHED-TTL:P3D
REFRESH-INTERVAL:P3D
CALSCALE:GREGORIAN
BEGIN:VEVENT
DTSTART:20250114T123000Z
DTEND:20250114T230000Z
X-MICROSOFT-CDO-ALLDAYEVENT:FALSE
SUMMARY:89th Legislative Session Opening Day
DESCRIPTION:Would you like to join us as we travel to Austin and the Capitol to welcome back our legislators? \n\nWe will leave the chamber office at 6:30 am and return by 5:00 pm. \n\nThere is no cost to join us - but please register as we plan for carpooling. \n\nPlease register no later than Friday\, January 10th\, end of business. \n\n\n\nWe look forwarding to our time with you and our representatives\, as we present our legislative priorities to them.
X-ALT-DESC;FMTTYPE=text/html:Would you like to join us as we travel to Austin and the Capitol to welcome back our legislators?&nbsp\;<br />\nWe will leave the chamber office at 6:30 am and return by 5:00 pm.&nbsp\;<br />\nThere is no cost to join us - but please register as we plan for carpooling.&nbsp\;<br />\nPlease register no later than Friday\, January 10th\, end of business.&nbsp\;<br />\n<br />\nWe look forwarding to our time with you and our representatives\, as we present our legislative priorities to them.&nbsp\;
LOCATION:Depart from Chamber Office 29201 Quinn Road Tomball\, TX 77375
UID:e.155.39277
SEQUENCE:3
DTSTAMP:20260420T172857Z
URL:https://business.tomballchamber.org/events/details/89th-legislative-session-opening-day-39277
END:VEVENT

END:VCALENDAR
