BEGIN:VCALENDAR
VERSION:2.0
PRODID:-//ChamberMaster//Event Calendar 2.0//EN
METHOD:PUBLISH
X-PUBLISHED-TTL:P3D
REFRESH-INTERVAL:P3D
CALSCALE:GREGORIAN
BEGIN:VEVENT
DTSTART:20070806T230000Z
DTEND:20070927T230000Z
X-MICROSOFT-CDO-ALLDAYEVENT:FALSE
SUMMARY:8-WEEK WEIGHT LOSS EXPRESS - Butterfly Life
DESCRIPTION:8-WEEK NUTRITION COURSE AND WEIGHT LOSS PROGRAM.  RUNS FROM AUGUST 6TH TO  SEPTEMBER 27TH.  COURSE INCLUDES 2 WEEKLY MEETINGS ON MONDAYS AND THURSDAYS.  EDUCATIONAL VIDEO\, WORKBOOK\, GROUP DISCUSSION\, ACCOUNTABILITY AND SUPPORT.
X-ALT-DESC;FMTTYPE=text/html:8-WEEK NUTRITION COURSE AND WEIGHT LOSS PROGRAM.  RUNS FROM AUGUST 6TH TO  SEPTEMBER 27TH.  COURSE INCLUDES 2 WEEKLY MEETINGS ON MONDAYS AND THURSDAYS.  EDUCATIONAL VIDEO\, WORKBOOK\, GROUP DISCUSSION\, ACCOUNTABILITY AND SUPPORT.
LOCATION:14030 FM 2920\, SUITE F\; TOMBALL 77377 In the NEW Kroger center at FM 2920 and HWY 249
UID:e.155.2271
SEQUENCE:3
DTSTAMP:20260422T044027Z
URL:https://business.tomballchamber.org/events/details/8-week-weight-loss-express-butterfly-life-08-06-2007-2271
END:VEVENT

END:VCALENDAR
