BEGIN:VCALENDAR
VERSION:2.0
PRODID:-//ChamberMaster//Event Calendar 2.0//EN
METHOD:PUBLISH
X-PUBLISHED-TTL:P3D
REFRESH-INTERVAL:P3D
CALSCALE:GREGORIAN
BEGIN:VEVENT
DTSTART:20070818T173000Z
DTEND:20070818T200000Z
X-MICROSOFT-CDO-ALLDAYEVENT:FALSE
SUMMARY:4th Annual Cake Tasting
DESCRIPTION:Come join in the fun and fabulous food as Tomball Party Rental hosts their 4th annual Cake\nTasting with area bakeries and caterers paricipating with their best recipes\, as well as area florists participating with their best floral designs.
X-ALT-DESC;FMTTYPE=text/html:Come join in the fun and fabulous food as Tomball Party Rental hosts their 4th annual Cake\nTasting with area bakeries and caterers paricipating with their best recipes\, as well as area florists participating with their best floral designs.
LOCATION:Tomball Rental Center 27219 Tomball Parkway\, Tomball TX 77375
UID:e.155.1387
SEQUENCE:3
DTSTAMP:20260422T044420Z
URL:https://business.tomballchamber.org/events/details/4th-annual-cake-tasting-08-18-2007-1387
END:VEVENT

END:VCALENDAR
