BEGIN:VCALENDAR
VERSION:2.0
PRODID:-//ChamberMaster//Event Calendar 2.0//EN
METHOD:PUBLISH
X-PUBLISHED-TTL:P3D
REFRESH-INTERVAL:P3D
CALSCALE:GREGORIAN
BEGIN:VEVENT
DTSTART;VALUE=DATE:20080327
DTEND;VALUE=DATE:20080328
TRANSP:TRANSPARENT
X-MICROSOFT-CDO-ALLDAYEVENT:TRUE
SUMMARY:30th Annual Golf Classic
DESCRIPTION:
X-ALT-DESC;FMTTYPE=text/html:
LOCATION:Lake Windcrest Golf Club
UID:e.155.2405
SEQUENCE:3
DTSTAMP:20260421T163959Z
URL:https://business.tomballchamber.org/events/details/30th-annual-golf-classic-03-27-2008-2405
END:VEVENT

END:VCALENDAR
