BEGIN:VCALENDAR
VERSION:2.0
PRODID:-//ChamberMaster//Event Calendar 2.0//EN
METHOD:PUBLISH
X-PUBLISHED-TTL:P3D
REFRESH-INTERVAL:P3D
CALSCALE:GREGORIAN
BEGIN:VEVENT
DTSTART:20080809T230000Z
DTEND:20080810T033000Z
X-MICROSOFT-CDO-ALLDAYEVENT:FALSE
SUMMARY:2nd Saturday at the Depot
DESCRIPTION:2nd Saturday at the Depot\npresented by The City of Tomball and The Regional Arts Council\nMovies - Music - Arts - Food - Train Depot Tours\nBring the Whole Family - Lawn Chairs - Picnic Basket
X-ALT-DESC;FMTTYPE=text/html:2nd Saturday at the Depot\npresented by The City of Tomball and The Regional Arts Council\nMovies - Music - Arts - Food - Train Depot Tours\nBring the Whole Family - Lawn Chairs - Picnic Basket\n
LOCATION:Tomball Train Depot Plaza at the corner of Market & Elm Streets Tomball\, Texas
UID:e.155.2530
SEQUENCE:3
DTSTAMP:20260421T095009Z
URL:https://business.tomballchamber.org/events/details/2nd-saturday-at-the-depot-08-09-2008-2530
END:VEVENT

END:VCALENDAR
