BEGIN:VCALENDAR
VERSION:2.0
PRODID:-//ChamberMaster//Event Calendar 2.0//EN
METHOD:PUBLISH
X-PUBLISHED-TTL:P3D
REFRESH-INTERVAL:P3D
CALSCALE:GREGORIAN
BEGIN:VEVENT
DTSTART:20080712T230000Z
DTEND:20080713T033000Z
X-MICROSOFT-CDO-ALLDAYEVENT:FALSE
SUMMARY:2nd Saturday at the Depot
DESCRIPTION:2nd Saturday at the Depot\npresneted by The City of Tomball and The Regional Arts Council\nMovies - Music - Arts - Food - Train Depot Tours\nEntertainment begins at 6:00 p.m. - Movie begins at Dark
X-ALT-DESC;FMTTYPE=text/html:2nd Saturday at the Depot\npresneted by The City of Tomball and The Regional Arts Council\nMovies - Music - Arts - Food - Train Depot Tours\nEntertainment begins at 6:00 p.m. - Movie begins at Dark\n
LOCATION:Tomball Train Depot Plaza at the corner of Market & Elm Streets Tomball\, Texas
UID:e.155.2529
SEQUENCE:3
DTSTAMP:20260421T095034Z
URL:https://business.tomballchamber.org/events/details/2nd-saturday-at-the-depot-07-12-2008-2529
END:VEVENT

END:VCALENDAR
