BEGIN:VCALENDAR
VERSION:2.0
PRODID:-//ChamberMaster//Event Calendar 2.0//EN
METHOD:PUBLISH
X-PUBLISHED-TTL:P3D
REFRESH-INTERVAL:P3D
CALSCALE:GREGORIAN
BEGIN:VEVENT
DTSTART;VALUE=DATE:20070322
DTEND;VALUE=DATE:20070323
TRANSP:TRANSPARENT
X-MICROSOFT-CDO-ALLDAYEVENT:TRUE
SUMMARY:29th Annual Golf Classic
DESCRIPTION:
X-ALT-DESC;FMTTYPE=text/html:
LOCATION:Lake Windcrest Golf Club
UID:e.155.8
SEQUENCE:3
DTSTAMP:20260422T133951Z
URL:https://business.tomballchamber.org/events/details/29th-annual-golf-classic-03-22-2007-8
END:VEVENT

END:VCALENDAR
