BEGIN:VCALENDAR
VERSION:2.0
PRODID:-//ChamberMaster//Event Calendar 2.0//EN
METHOD:PUBLISH
X-PUBLISHED-TTL:P3D
REFRESH-INTERVAL:P3D
CALSCALE:GREGORIAN
BEGIN:VEVENT
DTSTART;VALUE=DATE:20070428
DTEND;VALUE=DATE:20070429
TRANSP:TRANSPARENT
X-MICROSOFT-CDO-ALLDAYEVENT:TRUE
SUMMARY:2007 Sawmill Festival
DESCRIPTION:Go back to the late 1800's to early 1900's and experience history come alive\nArts and Crafts - Food Vendors
X-ALT-DESC;FMTTYPE=text/html:Go back to the late 1800's to early 1900's and experience history come alive<br />Arts and Crafts - Food Vendors
LOCATION:Community Chamber of Commerce of East Montgomery Cty will be held on COmmunity Road in New Caney\, Texas
UID:e.155.1661
SEQUENCE:3
DTSTAMP:20260422T104729Z
URL:https://business.tomballchamber.org/events/details/2007-sawmill-festival-04-28-2007-1661
END:VEVENT

END:VCALENDAR
