BEGIN:VCALENDAR
VERSION:2.0
PRODID:-//ChamberMaster//Event Calendar 2.0//EN
METHOD:PUBLISH
X-PUBLISHED-TTL:P3D
REFRESH-INTERVAL:P3D
CALSCALE:GREGORIAN
BEGIN:VEVENT
DTSTART:20070514T170000Z
DTEND:20070514T230000Z
X-MICROSOFT-CDO-ALLDAYEVENT:FALSE
SUMMARY:2007 Medina Children's Home Golf Tournament
DESCRIPTION:Event proceeds will benefit the single-mothers and children of Medina Home. The event is a four man scramble with a 1:00 shot-gun start and includes a box lunch\, fajita dinner\, goodie bag\, golf shirt\, professional team photo\, and entry into a closest-to-the pin contest with a $1\,000 smoker pit as the prize.
X-ALT-DESC;FMTTYPE=text/html:Event proceeds will benefit the single-mothers and children of Medina Home. The event is a four man scramble with a 1:00 shot-gun start and includes a box lunch\, fajita dinner\, goodie bag\, golf shirt\, professional team photo\, and entry into a closest-to-the pin contest with a $1\,000 smoker pit as the prize.
LOCATION:BlackHorse Golf Club 12205 Fry Road Cypress\, TX
UID:e.155.2202
SEQUENCE:3
DTSTAMP:20260422T091814Z
URL:https://business.tomballchamber.org/events/details/2007-medina-children-s-home-golf-tournament-05-14-2007-2202
END:VEVENT

END:VCALENDAR
