BEGIN:VCALENDAR
VERSION:2.0
PRODID:-//ChamberMaster//Event Calendar 2.0//EN
METHOD:PUBLISH
X-PUBLISHED-TTL:P3D
REFRESH-INTERVAL:P3D
CALSCALE:GREGORIAN
BEGIN:VEVENT
DTSTART:20080502T230000Z
DTEND:20080503T020000Z
X-MICROSOFT-CDO-ALLDAYEVENT:FALSE
SUMMARY:1st Friday at The Davinci Artist Gallery
DESCRIPTION:You are invited!  Enjoy a splendid evening wsith the DaVinci Artists each first Fri8day of every month.  We wil lhave beautiful art for your home and unique gifts for the art lovers on your list.  Join us for wine\, refreshments and soothing music to renew your spirit!
X-ALT-DESC;FMTTYPE=text/html:You are invited!  Enjoy a splendid evening wsith the DaVinci Artists each first Fri8day of every month.  We wil lhave beautiful art for your home and unique gifts for the art lovers on your list.  Join us for wine\, refreshments and soothing music to renew your spirit!
LOCATION:315 W.Main Street Tomball\, Texas 77375
UID:e.155.2478
SEQUENCE:3
DTSTAMP:20260421T150028Z
URL:https://business.tomballchamber.org/events/details/1st-friday-at-the-davinci-artist-gallery-05-02-2008-2478
END:VEVENT

END:VCALENDAR
