BEGIN:VCALENDAR
VERSION:2.0
PRODID:-//ChamberMaster//Event Calendar 2.0//EN
METHOD:PUBLISH
X-PUBLISHED-TTL:P3D
REFRESH-INTERVAL:P3D
CALSCALE:GREGORIAN
BEGIN:VEVENT
DTSTART:20241026T150000Z
DTEND:20241026T190000Z
X-MICROSOFT-CDO-ALLDAYEVENT:FALSE
SUMMARY:1st Annual Classic Car Show and Fall Fest
DESCRIPTION:1st Annual Classic Car Show and Fall Fest for the whole family
X-ALT-DESC;FMTTYPE=text/html:<div style="text-align: center\;"><span style="font-size:28px"><span style="font-family:comic sans ms">1st Annual Classic Car Show and Fall Fest for the whole family&nbsp\;</span></span></div>\n
LOCATION:Tomball Retirement Center 13415 Medical Complex Drive Tomball\, TX 77375
UID:e.155.39181
SEQUENCE:3
DTSTAMP:20260420T121524Z
URL:https://business.tomballchamber.org/events/details/1st-annual-classic-car-show-and-fall-fest-39181
END:VEVENT

END:VCALENDAR
